BEGIN:VCALENDAR
VERSION:2.0
PRODID:-//池田聡のOFFICIAL SITEへようこそ - ECPv4.4.3//NONSGML v1.0//EN
CALSCALE:GREGORIAN
METHOD:PUBLISH
X-WR-CALNAME:池田聡のOFFICIAL SITEへようこそ
X-ORIGINAL-URL:https://satoshi.net
X-WR-CALDESC:Events for 池田聡のOFFICIAL SITEへようこそ
BEGIN:VEVENT
DTSTART;VALUE=DATE:20221103
DTEND;VALUE=DATE:20221103
DTSTAMP:20260424T132228
CREATED:20220924T024216Z
LAST-MODIFIED:20220924T024216Z
UID:4195-1667433600-1667519999@satoshi.net
SUMMARY:アルバム発売記念ツアー  ぶらりツアー 京都
DESCRIPTION:【 日程 】2022年11月3日(木・文化の日)\n【 会場 】都雅都雅（〒600-8031 京都市下京区寺町通四条下ル貞安前之町613 火除天満宮Ｂ1Ｆ）\nhttp://togatoga.jp/\n【 開場 】16:00\n【 開演 】17:00\n【 料金 】前売り4\,500円 / 当日5\,000円（税込み・全席自由・2オーダー別途要）\n【 発売日 】2022年10月2日(日) 昼12時〜\n【 ご予約・お問合せ 】\n都雅都雅\ntel：075-744-1497\nmail：togatoga@kyoto.zaq.jp\n【 プレイガイド 】\nローソンチケット （Lコード：55838）0570-084-004\n◇全国のローソン・ミニストップ設置のLoppi\n◇ローチケ.com【モバイル・PC】\nhttp://l-tike.com/\n※当日は整理番号順入場\n※整理番号は①都雅都雅 → ②ローソン の順に割り当てます\n\n【 ご注意事項 】\n＊新型コロナウイルスへの注意事項「発熱、マスク着用、消毒」等の状況に応じた防疫のガイドラインの遵守、モラルに添った行動をお願い致します。\n＊急なキャンセルは他のご予約希望のお客様のご迷惑になる場合もございますので、公演1週間前までにご連絡頂きますようご協力をお願いいたします。\n＊撮影、録音、録画はご遠慮ください。\n＊フラッシュやシャッター音、雑音等で他のお客様にご迷惑行為があった際はご退場頂く場合がございますので、ご了承ください。
URL:https://satoshi.net/event/%e3%82%a2%e3%83%ab%e3%83%90%e3%83%a0%e7%99%ba%e5%a3%b2%e8%a8%98%e5%bf%b5%e3%83%84%e3%82%a2%e3%83%bc-%e3%81%b6%e3%82%89%e3%82%8a%e3%83%84%e3%82%a2%e3%83%bc-%e4%ba%ac%e9%83%bd/
LOCATION:下京区寺町通四条下ル貞安前之町613\, 京都市\, 京都府\, 〒600-8031 \, Japan
CATEGORIES:01.ライヴ
END:VEVENT
END:VCALENDAR