BEGIN:VCALENDAR
VERSION:2.0
PRODID:-//池田聡のOFFICIAL SITEへようこそ - ECPv4.4.3//NONSGML v1.0//EN
CALSCALE:GREGORIAN
METHOD:PUBLISH
X-WR-CALNAME:池田聡のOFFICIAL SITEへようこそ
X-ORIGINAL-URL:https://satoshi.net
X-WR-CALDESC:Events for 池田聡のOFFICIAL SITEへようこそ
BEGIN:VEVENT
DTSTART;VALUE=DATE:20241027
DTEND;VALUE=DATE:20241027
DTSTAMP:20260422T172648
CREATED:20240709T000038Z
LAST-MODIFIED:20240708T164701Z
UID:5340-1729987200-1730073599@satoshi.net
SUMMARY:ぶらり沖縄ツアー2024 那覇
DESCRIPTION:【 日程 】2024年10月27日(日)\n【 会場 】D-Set Cafe（〒900-0013 那覇市牧志2-7-24 セゾン宝ビル4F）\nhttps://d-setcafe.com/live/\n【 開場 】14:00\n【 開演 】14:30\n【 ゲストミュージシャン 】トウマツグアツ(ディアマンテス Dr/Perc.)\n【 料金 】¥4\,000（税込・自由席・1dr別）\n【ご予約・お問合せ】\nD-Set Cafe　℡：098-861-8110\nMail : d-set@nirai.ne.jp\n＊件名に10/27池田聡LIVE予約とご入力頂き\n・お名前\n・人数\n・電話番号\n上記3点をご明記の上お申込みください。\n\n【 全会場共通注意事項 】\n＊キャンセルは他のご予約希望のお客様のご迷惑になる場合もございますので、公演1週間前までにお願いいたします。\n＊撮影、録音、録画はご遠慮ください。\n＊フラッシュやシャッター音、雑音等で他のお客様にご迷惑行為があった際はご退場頂くか、公演自体が中止になる場合がございますので、ご了承ください。
URL:https://satoshi.net/event/%e3%81%b6%e3%82%89%e3%82%8a%e6%b2%96%e7%b8%84%e3%83%84%e3%82%a2%e3%83%bc2024-%e9%82%a3%e8%a6%87/
LOCATION:牧志2-7-24 セゾン宝ビル4F\, 那覇市\, 沖縄県\, 900-0013\, Japan
CATEGORIES:01.ライヴ
END:VEVENT
END:VCALENDAR