BEGIN:VCALENDAR
VERSION:2.0
PRODID:-//池田聡のOFFICIAL SITEへようこそ - ECPv4.4.3//NONSGML v1.0//EN
CALSCALE:GREGORIAN
METHOD:PUBLISH
X-WR-CALNAME:池田聡のOFFICIAL SITEへようこそ
X-ORIGINAL-URL:https://satoshi.net
X-WR-CALDESC:Events for 池田聡のOFFICIAL SITEへようこそ
BEGIN:VEVENT
DTSTART;VALUE=DATE:20240907
DTEND;VALUE=DATE:20240907
DTSTAMP:20260422T155302
CREATED:20240708T133021Z
LAST-MODIFIED:20240708T131536Z
UID:5333-1725667200-1725753599@satoshi.net
SUMMARY:ぶらりツアー 2024 IN 高岡
DESCRIPTION:【 日程 】2024年9月7日(土)\n【 会場 】GOOD FELLOWS\n（〒933-0029 富山県高岡市御旅屋町15-6 SKKオタヤビルB1）\nhttps://ucwuaf8081.wixsite.com/goodfellows\nhttps://www.facebook.com/profile.php?id=100064622472485\n【 開場 】18:00\n【 開演 】18:30\n【 料金 】前売り4\,500円 / 当日5\,000円（1drink 別途要）\n【ご予約・お問合せ】\nGOOD FELLOWS\n℡：0766-60-1503\nMail：goodfellows.ta@gmail.com\n\n【 全会場共通ご注意事項 】\n＊急なキャンセルは、他のご予約希望のお客様のご迷惑になる場合もございますので、公演1週間前までにお願いいたします。\n＊撮影、録音、録画はご遠慮ください。\n＊フラッシュやシャッター音、雑音等で他のお客様にご迷惑行為があった際はご退場頂くか公演中止となる場合がございますので、ご了承ください。
URL:https://satoshi.net/event/%e3%81%b6%e3%82%89%e3%82%8a%e3%83%84%e3%82%a2%e3%83%bc-2024-in-%e9%ab%98%e5%b2%a1/
LOCATION:御旅屋町15-6 SKKオタヤビルB1\, 高岡市\, 富山県\, 〒933-0029\, Japan
CATEGORIES:01.ライヴ
END:VEVENT
END:VCALENDAR