BEGIN:VCALENDAR
VERSION:2.0
PRODID:-//池田聡のOFFICIAL SITEへようこそ - ECPv4.4.3//NONSGML v1.0//EN
CALSCALE:GREGORIAN
METHOD:PUBLISH
X-WR-CALNAME:池田聡のOFFICIAL SITEへようこそ
X-ORIGINAL-URL:https://satoshi.net
X-WR-CALDESC:Events for 池田聡のOFFICIAL SITEへようこそ
BEGIN:VEVENT
DTSTART;VALUE=DATE:20220604
DTEND;VALUE=DATE:20220604
DTSTAMP:20260424T203909
CREATED:20220427T123142Z
LAST-MODIFIED:20220428T015844Z
UID:3926-1654300800-1654387199@satoshi.net
SUMMARY:ぶらりツアー 鳥取 with ノグチアツシ（安来のおじ）
DESCRIPTION:ぶらりツアー 鳥取\nwith ノグチアツシ（安来のおじ）\n【 日程 】2022年6月4日(土)\n【 会場 】無量光寺\n（鳥取県鳥取市国府町宮下2）\n【 開場 】18:00\n【 開演 】18:30\n【 料金 】前売 ¥4\,500 当日 ¥5\,000\n【 申し込み・お問合せ 】\nhttp://abe-rise.com/yasugiatsushi/shop/\n\n【 ご注意事項 】\n＊新型コロナウイルスへの注意事項「発熱、マスク着用、消毒」等の状況に応じた防疫のガイドラインの遵守、モラルに添った行動をお願い致します。\n＊キャンセルは他のご予約希望のお客様のご迷惑になる場合もございますので、公演1週間前までにお願いいたします。\n＊撮影、録音、録画はご遠慮ください。\n＊フラッシュやシャッター音、雑音等で他のお客様にご迷惑行為があった際はご退場頂く場合がございますので、ご了承ください。
URL:https://satoshi.net/event/%e3%81%b6%e3%82%89%e3%82%8a%e3%83%84%e3%82%a2%e3%83%bc-%e9%b3%a5%e5%8f%96-with-%e3%83%8e%e3%82%b0%e3%83%81%e3%82%a2%e3%83%84%e3%82%b7%ef%bc%88%e5%ae%89%e6%9d%a5%e3%81%ae%e3%81%8a%e3%81%98%ef%bc%89/
LOCATION:国府町宮下2\, 鳥取市\, 鳥取県\, 680-151
CATEGORIES:01.ライヴ
END:VEVENT
END:VCALENDAR