BEGIN:VCALENDAR
VERSION:2.0
PRODID:-//池田聡のOFFICIAL SITEへようこそ - ECPv4.4.3//NONSGML v1.0//EN
CALSCALE:GREGORIAN
METHOD:PUBLISH
X-WR-CALNAME:池田聡のOFFICIAL SITEへようこそ
X-ORIGINAL-URL:https://satoshi.net
X-WR-CALDESC:Events for 池田聡のOFFICIAL SITEへようこそ
BEGIN:VEVENT
DTSTART;VALUE=DATE:20220505
DTEND;VALUE=DATE:20220505
DTSTAMP:20260424T203612
CREATED:20220324T121732Z
LAST-MODIFIED:20220324T121732Z
UID:3879-1651708800-1651795199@satoshi.net
SUMMARY:ぶらりツアー 高槻
DESCRIPTION:【 日程 】2022年5月5日(木祝)\n【 会場 】高槻 MUSIC SQUARE 1624 TENJIN (大阪府高槻市天神町1-6-24 天神ビル地下1階)\n【 開場 】15:00〜\n【 開演 】16:00〜 入替無し2部制\n【 料金 】前売¥4\,500 / 当日¥5\,000\n（税込み・予約順指定席・2オーダー別途要\n※2ドリンク、又は、1ドリンク+1フードかお選び頂けます。)\n【 お申込み開始日 】2022/3/31(木)20:00〜\n【ご予約・お問合せ】\n・URL：http://www.mam-1624.com/live/202205/20220505n.html\n・MUSIC SQUARE 1624 TENJIN ℡：072-691-1624\n【 LIVE内容 】\n企画モノが多い1624会場ですが、初心に還り、ヒット曲を中心とした池田聡スタンダードLIVEです。池田聡初心者の方まで楽しんで頂けるオススメしたい内容です。\n\n【 ご注意事項 】\n＊新型コロナウイルスへの注意事項「発熱、マスク着用、消毒」等の状況に応じた防疫のガイドラインの遵守、モラルに添った行動をお願い致します。\n＊キャンセル等要項はお店からの返信メールを必ずご確認ください。\n＊撮影、録音、録画はご遠慮ください。\n＊フラッシュやシャッター音、雑音・騒音等で他のお客様にご不快と判断された時点でご退場頂きますので、ご了承ください。\n＊ 相互でマナーを守りより良い環境となるようご協力お願いします！
URL:https://satoshi.net/event/%e3%81%b6%e3%82%89%e3%82%8a%e3%83%84%e3%82%a2%e3%83%bc-%e9%ab%98%e6%a7%bb/
LOCATION:天神町1-6-24\, 高槻市\, 大阪府\, 569-1117\, Japan
CATEGORIES:01.ライヴ
END:VEVENT
END:VCALENDAR