BEGIN:VCALENDAR
VERSION:2.0
PRODID:-//池田聡のOFFICIAL SITEへようこそ - ECPv4.4.3//NONSGML v1.0//EN
CALSCALE:GREGORIAN
METHOD:PUBLISH
X-WR-CALNAME:池田聡のOFFICIAL SITEへようこそ
X-ORIGINAL-URL:https://satoshi.net
X-WR-CALDESC:Events for 池田聡のOFFICIAL SITEへようこそ
BEGIN:VEVENT
DTSTART;VALUE=DATE:20240812
DTEND;VALUE=DATE:20240812
DTSTAMP:20260422T203404
CREATED:20240518T000021Z
LAST-MODIFIED:20240808T093205Z
UID:5244-1723420800-1723507199@satoshi.net
SUMMARY:ぶらりツアー 高崎《 残席僅か 》
DESCRIPTION:【 日程 】2024年8月12日(月/振替休日)《 残席僅か 》\n【 会場 】SLOW TIME cafe\n（〒370-0827 群馬県高崎市鞘町82番地-2F）\nhttps://slowtime-cafe.com/\n【 開場 】15:30\n【 開演 】16:00\n【 料金 】¥4\,500（※1ドリンク別途要）\n【 ご予約 】\nMail：yoyaku@slowtime-cafe.com（メール予約のみ）\n※上記アドレス宛に件名「8月12日池田聡ライヴ」と記載いただき、本文にお名前、人数、ご連絡先を記載の上、送信ください。\n※ 1週間経過しても返信が届かない場合、再度ご連絡ください。\n【 お問合せ 】\nSLOW TIME cafe\nTel：027-325-3790\nOPEN12:00／CLOSE20:00（週末21:30）\n定休日：月、火曜（祝日の場合、営業）\n\n【 ご注意事項 】\n＊ご予約キャンセル料(ミュージックチャージ料金)につきましては、公演1週間前より発生する場合がございますのでご了承ください。\n＊撮影、録音、録画はご遠慮ください。\n＊フラッシュやシャッター音、雑音等で他のお客様にご迷惑行為があった際はご退場頂く場合がございますので、ご了承ください。
URL:https://satoshi.net/event/%e3%81%b6%e3%82%89%e3%82%8a%e3%83%84%e3%82%a2%e3%83%bc-%e9%ab%98%e5%b4%8e/
LOCATION:鞘町82番地-2F\, 高崎市\, 群馬県\, 〒370-0827\, Japan
CATEGORIES:01.ライヴ
END:VEVENT
END:VCALENDAR