BEGIN:VCALENDAR
VERSION:2.0
PRODID:-//池田聡のOFFICIAL SITEへようこそ - ECPv4.4.3//NONSGML v1.0//EN
CALSCALE:GREGORIAN
METHOD:PUBLISH
X-WR-CALNAME:池田聡のOFFICIAL SITEへようこそ
X-ORIGINAL-URL:https://satoshi.net
X-WR-CALDESC:Events for 池田聡のOFFICIAL SITEへようこそ
BEGIN:VEVENT
DTSTART;VALUE=DATE:20220701
DTEND;VALUE=DATE:20220701
DTSTAMP:20260425T010216
CREATED:20220509T173012Z
LAST-MODIFIED:20220509T173012Z
UID:3954-1656633600-1656719999@satoshi.net
SUMMARY:ぶらりツアー 静岡
DESCRIPTION:【 日程 】2022年7月1日(金)\n【 会場 】静岡 UHU（〒420-0035 静岡県静岡市葵区七間町9-10 ワイシーシー第二ビルB1）\nhttp://livehouse-uhu.com/\n【 開場 】18:30\n【 開演 】19:00\n【 料金 】前売4\,500円 / 当日5\,000円（税込み・全席自由・1D別）\n【ご予約・お問合せ】\nUHU ℡：054-253-1418\nE-mail：info@livehouse-uhu.com\n\n【 ご注意事項 】\n＊新型コロナウイルスへの注意事項「発熱、マスク着用、消毒」等の状況に応じた防疫のガイドラインの遵守、モラルに添った行動をお願い致します。\n＊キャンセル等につきましては、感染防止対策の為お座席数に限りがありますので、キャンセルのご連絡は1週間前迄にお願い致します。\n＊撮影、録音、録画はご遠慮ください。\n＊フラッシュやシャッター音、雑音等で他のお客様にご迷惑行為があった際はご退場頂くか、公演自体中止になる場合がございますので、ご了承ください。
URL:https://satoshi.net/event/%e3%81%b6%e3%82%89%e3%82%8a%e3%83%84%e3%82%a2%e3%83%bc-%e9%9d%99%e5%b2%a1-5/
LOCATION:葵区七間町9-10\, 静岡市\, 静岡県\, 420-0035\, Japan
CATEGORIES:01.ライヴ
END:VEVENT
END:VCALENDAR