BEGIN:VCALENDAR
VERSION:2.0
PRODID:-//池田聡のOFFICIAL SITEへようこそ - ECPv4.4.3//NONSGML v1.0//EN
CALSCALE:GREGORIAN
METHOD:PUBLISH
X-WR-CALNAME:池田聡のOFFICIAL SITEへようこそ
X-ORIGINAL-URL:https://satoshi.net
X-WR-CALDESC:Events for 池田聡のOFFICIAL SITEへようこそ
BEGIN:VEVENT
DTSTART;VALUE=DATE:20231202
DTEND;VALUE=DATE:20231202
DTSTAMP:20260423T142121
CREATED:20230913T065655Z
LAST-MODIFIED:20230913T065655Z
UID:4677-1701475200-1701561599@satoshi.net
SUMMARY:ぶらりツアー 防府
DESCRIPTION:【 日程 】2023年12月2日(土)\n【 会場 】Opus\n（〒747-0034 山口県防府市天神1丁目-12-15）\nhttp://cafe-opus.com/\n【 開場 】17:30\n【 開演 】18:00\n【 オープニングアクト 】Jizo（ex- J-class）\n【 料金 】前売 4\,500円 / 当日:5\,000円（税込・全席自由・1drink別）\n【 ご予約・お問合せ 】\nOpus ℡ : 0835-25-4794\n\n【 ご注意事項 】\n＊急なキャンセルは他のご予約希望のお客様のご迷惑になる場合もございますので、公演1週間前までにお願いいたします。\n＊撮影、録音、録画はご遠慮ください。\n＊フラッシュやシャッター音、雑音等で他のお客様にご迷惑行為があった際はご退場頂く場合がございますので、ご了承ください。
URL:https://satoshi.net/event/%e3%81%b6%e3%82%89%e3%82%8a%e3%83%84%e3%82%a2%e3%83%bc-%e9%98%b2%e5%ba%9c-4/
LOCATION:天神1丁目-12-15\, 防府市\, 山口県\, 747-0034\, Japan
CATEGORIES:01.ライヴ
END:VEVENT
END:VCALENDAR