BEGIN:VCALENDAR
VERSION:2.0
PRODID:-//池田聡のOFFICIAL SITEへようこそ - ECPv4.4.3//NONSGML v1.0//EN
CALSCALE:GREGORIAN
METHOD:PUBLISH
X-WR-CALNAME:池田聡のOFFICIAL SITEへようこそ
X-ORIGINAL-URL:https://satoshi.net
X-WR-CALDESC:Events for 池田聡のOFFICIAL SITEへようこそ
BEGIN:VEVENT
DTSTART;VALUE=DATE:20260130
DTEND;VALUE=DATE:20260130
DTSTAMP:20260419T181126
CREATED:20251013T060055Z
LAST-MODIFIED:20251012T170519Z
UID:6004-1769731200-1769817599@satoshi.net
SUMMARY:ぶらりツアー 豊田
DESCRIPTION:【 日程 】2026年1月30日(金)\n【 会場 】City Cafe\n（〒473-0901 豊田市御幸本町7丁目211-1）\nhttp://citycafe2480.com/\n【 開場 】18:30\n【 開演 】19:00\n【 料金 】4\,500円 / 当日 5\,000円 ( ご飲食代別途必須 ）\n【 ご予約 】\n下記お電話又は下記メールにて承ります。\nCity Cafe\n○ 電話：0565-29-2480\n○ メール：citycafe0426@gmail.com\n・件名に「池田聡ライヴ申し込み」と記入してください\n・名前（申込者ご自身のお名前）\n・人数\n・連絡先（日中連絡可能な電話番号）\n【 お問合せ】 City Cafe：0565-29-2480\n\n【 全会場共通注意事項 】\n＊キャンセル要項等は会場ホームページ又はご返信メールを必ずご確認ください。\n＊撮影、録音、録画はご遠慮ください。\n＊フラッシュやシャッター音、雑音・騒音等で他のお客様にご不快と判断された時点でご退場頂きますのでご了承ください。\n＊ 受付時に身分証のご提示をお願いする場合がございますのでご了承ください。 ＊ 相互でマナーを守りより良い環境となるようご協力お願いします！
URL:https://satoshi.net/event/%e3%81%b6%e3%82%89%e3%82%8a%e3%83%84%e3%82%a2%e3%83%bc-%e8%b1%8a%e7%94%b0-7/
LOCATION:御幸本町7-211-1\, 豊田市\, 愛知県\, 473-0901\, Japan
CATEGORIES:01.ライヴ
END:VEVENT
END:VCALENDAR