BEGIN:VCALENDAR
VERSION:2.0
PRODID:-//池田聡のOFFICIAL SITEへようこそ - ECPv4.4.3//NONSGML v1.0//EN
CALSCALE:GREGORIAN
METHOD:PUBLISH
X-WR-CALNAME:池田聡のOFFICIAL SITEへようこそ
X-ORIGINAL-URL:https://satoshi.net
X-WR-CALDESC:Events for 池田聡のOFFICIAL SITEへようこそ
BEGIN:VEVENT
DTSTART;VALUE=DATE:20241019
DTEND;VALUE=DATE:20241019
DTSTAMP:20260422T224740
CREATED:20240818T102203Z
LAST-MODIFIED:20240818T102203Z
UID:5413-1729296000-1729382399@satoshi.net
SUMMARY:ぶらりツアー 甲府
DESCRIPTION:【 日程 】2024年10月19日(土)\n【 会場 】ハーパーズミル\n（〒400-0808 山梨県甲府市東光寺町1346）\nhttp://www.harmonicheart.com/\nhttps://www.facebook.com/ハーパーズミル-652197638188613/\n【 開場 】17:30\n【 開演 】18:00\n【 料金 】前売4\,500円 / 当日5\,000円（税込･全席指定・1Drink別）\n【ご予約・お問合せ】\nikeda.satoshi.live@gmail.com\n＊件名：10/19甲府LIVE\n◯お名前\n◯人数\n◯ご連絡先\n上記をご明記の上お申し込みください。\n《 お申込みご注意事項 》\n①特にモバイルメール(docomo/ au /softbank)の方は受信設定に予め《 ikeda.satoshi.live@gmail.com 》のご登録をお願い致します。\n② 返信メールにご入金先を記載しております。\n③ ご入金順整理番号発行となります。\n④ 一両日中にご返信無き場合は①メール受信設定をご確認の上再度ご連絡ください。\n【 お問合せ 】\nikeda.satoshi.live@gmail.com\n\n【 ご注意事項 】\n＊急なキャンセルは他のご予約希望のお客様のご迷惑になる場合もございますので、公演1週間前までにお願いいたします。\n＊撮影、録音、録画はご遠慮ください。\n＊フラッシュやシャッター音、雑音等で他のお客様にご迷惑行為があった際はご退場頂く場合がございますので、ご了承ください。
URL:https://satoshi.net/event/%e3%81%b6%e3%82%89%e3%82%8a%e3%83%84%e3%82%a2%e3%83%bc-%e7%94%b2%e5%ba%9c-2/
LOCATION:東光寺町1346\, 甲府市\, 山梨県\, 400-0808
CATEGORIES:01.ライヴ
END:VEVENT
END:VCALENDAR