BEGIN:VCALENDAR
VERSION:2.0
PRODID:-//池田聡のOFFICIAL SITEへようこそ - ECPv4.4.3//NONSGML v1.0//EN
CALSCALE:GREGORIAN
METHOD:PUBLISH
X-WR-CALNAME:池田聡のOFFICIAL SITEへようこそ
X-ORIGINAL-URL:https://satoshi.net
X-WR-CALDESC:Events for 池田聡のOFFICIAL SITEへようこそ
BEGIN:VEVENT
DTSTART;VALUE=DATE:20251102
DTEND;VALUE=DATE:20251102
DTSTAMP:20260419T231910
CREATED:20250803T233050Z
LAST-MODIFIED:20250803T232355Z
UID:5909-1762041600-1762127999@satoshi.net
SUMMARY:ぶらりツアー 津
DESCRIPTION:【 日程 】2025年11月2日(日)\n【 会場 】 Cafe & Live Bar Bran\n（514-0027三重県津市大門18-7）\n【 開場 】16:00\n【 開演 】16:30\n【 料金 】前売¥4\,500 、当日¥5\,000\n（税込、全自由席、ドリンク代別）\n【 問い合わせ & 予約 】\nCafe&Live Bar Bran： 059-253-8870\nMail：y087343@gmail.com\n【 予約受付開始日 】8月5日(火)20:00～\n以下↓の文言も付加いただけると幸いです。\n※時間によっては電話に出られない場合がございます。\n※店舗InstagramのDMでも予約受付可能です。\n※予約受付開始日時以前の予約の電話やメール・DMはご遠慮ください。\n※月曜日は定休日なのでお店の電話の受付は出来ませんのでご了承ください。
URL:https://satoshi.net/event/%e3%81%b6%e3%82%89%e3%82%8a%e3%83%84%e3%82%a2%e3%83%bc-%e6%b4%a5-6/
CATEGORIES:01.ライヴ
END:VEVENT
END:VCALENDAR