BEGIN:VCALENDAR
VERSION:2.0
PRODID:-//池田聡のOFFICIAL SITEへようこそ - ECPv4.4.3//NONSGML v1.0//EN
CALSCALE:GREGORIAN
METHOD:PUBLISH
X-WR-CALNAME:池田聡のOFFICIAL SITEへようこそ
X-ORIGINAL-URL:https://satoshi.net
X-WR-CALDESC:Events for 池田聡のOFFICIAL SITEへようこそ
BEGIN:VEVENT
DTSTART;VALUE=DATE:20220603
DTEND;VALUE=DATE:20220603
DTSTAMP:20260424T173514
CREATED:20220427T123008Z
LAST-MODIFIED:20220427T133559Z
UID:3923-1654214400-1654300799@satoshi.net
SUMMARY:ぶらりツアー 松江 with ノグチアツシ（安来のおじ）
DESCRIPTION:ぶらりツアー 松江\nwith ノグチアツシ（安来のおじ）\n【 日程 】2022年6月3日(金)\n【 会場 】MUSIC LIBERUM@Miz\n（島根県松江市末次本町 37 寿ビル地下(大橋北詰)）\n【 開場 】18:30\n【 開演 】19:00\n【 料金 】前売 ¥4\,500 当日 ¥5\,000（Drink別途）\n【 申し込み・お問合せ 】\nTel 0852-32-1551（ミーズ）\n\n【 ご注意事項 】\n＊新型コロナウイルスへの注意事項「発熱、マスク着用、消毒」等の状況に応じた防疫のガイドラインの遵守、モラルに添った行動をお願い致します。\n＊キャンセルは他のご予約希望のお客様のご迷惑になる場合もございますので、公演1週間前までにお願いいたします。\n＊撮影、録音、録画はご遠慮ください。\n＊フラッシュやシャッター音、雑音等で他のお客様にご迷惑行為があった際はご退場頂く場合がございますので、ご了承ください。
URL:https://satoshi.net/event/%e3%81%b6%e3%82%89%e3%82%8a%e3%83%84%e3%82%a2%e3%83%bc-%e6%9d%be%e6%b1%9f-with-%e3%83%8e%e3%82%b0%e3%83%81%e3%82%a2%e3%83%84%e3%82%b7%ef%bc%88%e5%ae%89%e6%9d%a5%e3%81%ae%e3%81%8a%e3%81%98%ef%bc%89/
LOCATION:末次本町 37 寿ビル地下\, 松江市\, 島根県\, Japan
CATEGORIES:01.ライヴ
END:VEVENT
END:VCALENDAR