BEGIN:VCALENDAR
VERSION:2.0
PRODID:-//池田聡のOFFICIAL SITEへようこそ - ECPv4.4.3//NONSGML v1.0//EN
CALSCALE:GREGORIAN
METHOD:PUBLISH
X-WR-CALNAME:池田聡のOFFICIAL SITEへようこそ
X-ORIGINAL-URL:https://satoshi.net
X-WR-CALDESC:Events for 池田聡のOFFICIAL SITEへようこそ
BEGIN:VEVENT
DTSTART;VALUE=DATE:20260711
DTEND;VALUE=DATE:20260711
DTSTAMP:20260420T134532
CREATED:20260420T032528Z
LAST-MODIFIED:20260420T031924Z
UID:6294-1783728000-1783814399@satoshi.net
SUMMARY:ぶらりツアー 尾道
DESCRIPTION:【 日程 】2026年7月11日(土)\n【 会場 】OYE COMO VA　オエコモヴァ\n（〒722-0045 広島県尾道市久保1-5-18）\nhttp://oyecomova.g2.xrea.com/\n【 開場 】17:30\n【 開演 】18:00\n【 料金 】5\,000円（税込・別途1D）\n【 予約・問い合わせ 】\nOYE COMO VA　(オエコモヴァ)：℡ 0848-37-3001\n\n【 全会場共通ご注意事項 】\n＊キャンセル要項等は会場ホームページ又はご返信メールを必ずご確認ください。\n＊撮影、録音、録画はご遠慮ください。\n＊フラッシュやシャッター音、雑音・騒音等で他のお客様にご不快と判断された時点でご退場頂きますのでご了承ください。\n＊ 受付時に身分証のご提示をお願いする場合がございますのでご了承ください。\n＊ 相互でマナーを守りより良い環境となるようご協力お願いします！
URL:https://satoshi.net/event/%e3%81%b6%e3%82%89%e3%82%8a%e3%83%84%e3%82%a2%e3%83%bc-%e5%b0%be%e9%81%93-6/
LOCATION:久保1‐5‐18\, 尾道市\, 広島県\, Japan
CATEGORIES:01.ライヴ
END:VEVENT
END:VCALENDAR