BEGIN:VCALENDAR
VERSION:2.0
PRODID:-//池田聡のOFFICIAL SITEへようこそ - ECPv4.4.3//NONSGML v1.0//EN
CALSCALE:GREGORIAN
METHOD:PUBLISH
X-WR-CALNAME:池田聡のOFFICIAL SITEへようこそ
X-ORIGINAL-URL:https://satoshi.net
X-WR-CALDESC:Events for 池田聡のOFFICIAL SITEへようこそ
BEGIN:VEVENT
DTSTART;VALUE=DATE:20241110
DTEND;VALUE=DATE:20241110
DTSTAMP:20260422T135114
CREATED:20240809T020035Z
LAST-MODIFIED:20240808T172643Z
UID:5398-1731196800-1731283199@satoshi.net
SUMMARY:ぶらりツアー 伊勢
DESCRIPTION:【 日程 】2024年11月10日(日) \n【 会場 】CAFE RELISHNOTE\n（〒516-0037 三重県伊勢市岩渕１丁目13-15） \n【 開場 】17:00\n【 開演 】17:30\n【 料金 】前売¥4\,500 、当日¥5\,000（税込、全自由席、ドリンク代別） \n【 問い合わせ & 予約 】\nCAFE RELISH NOTE： 0596-20-6345 \n【 予約受付開始日 】\n8月29日(木)11:30～ \n※時間によっては電話に出れない場合がございます。\n※予約受付開始日時以前の予約申込みの電話はご遠慮ください。\n\n 【 ご注意事項 】 \n＊急なキャンセルは他のご予約希望のお客様のご迷惑になる場合もございますので、公演1週間前までにお願いいたします。 \n＊撮影、録音、録画はご遠慮ください。 \n＊フラッシュやシャッター音、雑音等で他のお客様にご迷惑行為があった際はご退場頂く場合がございますので、ご了承ください。
URL:https://satoshi.net/event/%e3%81%b6%e3%82%89%e3%82%8a%e3%83%84%e3%82%a2%e3%83%bc-%e4%bc%8a%e5%8b%a2-6/
LOCATION:岩渕１丁目13-15\, 伊勢市\, 三重県\, 516-0037
CATEGORIES:01.ライヴ
END:VEVENT
END:VCALENDAR