BEGIN:VCALENDAR
VERSION:2.0
PRODID:-//池田聡のOFFICIAL SITEへようこそ - ECPv4.4.3//NONSGML v1.0//EN
CALSCALE:GREGORIAN
METHOD:PUBLISH
X-WR-CALNAME:池田聡のOFFICIAL SITEへようこそ
X-ORIGINAL-URL:https://satoshi.net
X-WR-CALDESC:Events for 池田聡のOFFICIAL SITEへようこそ
BEGIN:VEVENT
DTSTART;VALUE=DATE:20220617
DTEND;VALUE=DATE:20220617
DTSTAMP:20260424T222322
CREATED:20220502T172212Z
LAST-MODIFIED:20220502T172212Z
UID:3944-1655424000-1655510399@satoshi.net
SUMMARY:ぶらりツアー 丸亀
DESCRIPTION:【 日程 】2022年6月17日(金)\n【 会場 】Sound bar OCHO（〒763-0043 香川県丸亀市通町５２−１ 通町ビル２F）\nhttp://ocho20160908.wixsite.com/soundbar-ocho\nhttps://www.facebook.com/soundbar.ocho/\n【 開場 】18:30\n【 開演 】19:00\n【 料金 】4\,500円 （1Dr要別途オーダー）\n【 予約・問い合わせ 】\nSound bar OCHO\nMail：soundbar.ocho@gmail.com\nTel：0877−211−808\n\n【 ご注意事項 】\n＊新型コロナウイルスへの注意事項「発熱、マスク着用、消毒」等の状況に応じた防疫のガイドラインの遵守、モラルに添った行動をお願い致します。\n＊キャンセルは他のご予約希望のお客様のご迷惑になる場合もございますので、公演1週間前までにお願いいたします。\n＊撮影、録音、録画はご遠慮ください。\n＊フラッシュやシャッター音、雑音等で他のお客様にご迷惑行為があった際はご退場頂く場合がございますので、ご了承ください。
URL:https://satoshi.net/event/%e3%81%b6%e3%82%89%e3%82%8a%e3%83%84%e3%82%a2%e3%83%bc-%e4%b8%b8%e4%ba%80-3/
LOCATION:通町５２−１ 通町ビル２F\, 丸亀市\, 香川県\, 763-0043\, Japan
CATEGORIES:01.ライヴ
END:VEVENT
END:VCALENDAR