BEGIN:VCALENDAR
VERSION:2.0
PRODID:-//池田聡のOFFICIAL SITEへようこそ - ECPv4.4.3//NONSGML v1.0//EN
CALSCALE:GREGORIAN
METHOD:PUBLISH
X-WR-CALNAME:池田聡のOFFICIAL SITEへようこそ
X-ORIGINAL-URL:https://satoshi.net
X-WR-CALDESC:Events for 池田聡のOFFICIAL SITEへようこそ
BEGIN:VEVENT
DTSTART;VALUE=DATE:20260712
DTEND;VALUE=DATE:20260712
DTSTAMP:20260420T134502
CREATED:20260420T032539Z
LAST-MODIFIED:20260420T032533Z
UID:6296-1783814400-1783900799@satoshi.net
SUMMARY:ぶらりツアー岩国
DESCRIPTION:coming soon
URL:https://satoshi.net/event/%e3%81%b6%e3%82%89%e3%82%8a%e3%83%84%e3%82%a2%e3%83%bc%e5%b2%a9%e5%9b%bd/
CATEGORIES:01.ライヴ
END:VEVENT
END:VCALENDAR