BEGIN:VCALENDAR
VERSION:2.0
PRODID:-//池田聡のOFFICIAL SITEへようこそ - ECPv4.4.3//NONSGML v1.0//EN
CALSCALE:GREGORIAN
METHOD:PUBLISH
X-WR-CALNAME:池田聡のOFFICIAL SITEへようこそ
X-ORIGINAL-URL:https://satoshi.net
X-WR-CALDESC:Events for 池田聡のOFFICIAL SITEへようこそ
BEGIN:VEVENT
DTSTART;VALUE=DATE:20221011
DTEND;VALUE=DATE:20221011
DTSTAMP:20260424T111336
CREATED:20221004T012956Z
LAST-MODIFIED:20221004T013340Z
UID:4248-1665446400-1665532799@satoshi.net
SUMMARY:『 藤田恵美のかみつれ雑貨店 』ゲスト出演
DESCRIPTION:栃木放送　 10/11、11/18（火）22:00-22:30　\n　\n【 パーソナリティ 】\n藤田恵美さん(元Le Couple)\n\n【 聴取方法 】\nエリア内のかたは普通のラジオか無料アプリradikoで。\nエリア以外のかたが聞く場合は、radikoプレミアム(有料アプリ)で聞いて頂くことになります。\n　\n【 メッセージ、リクエスト、ラヴレター 】\nemi@p-mar.co.jp　
URL:https://satoshi.net/event/%e3%80%8e-%e8%97%a4%e7%94%b0%e6%81%b5%e7%be%8e%e3%81%ae%e3%81%8b%e3%81%bf%e3%81%a4%e3%82%8c%e9%9b%91%e8%b2%a8%e5%ba%97-%e3%80%8f%e3%82%b2%e3%82%b9%e3%83%88%e5%87%ba%e6%bc%94-7/
CATEGORIES:06.ラジオ
END:VEVENT
END:VCALENDAR